BEGIN:VCALENDAR
VERSION:2.0
PRODID:-//Salterina - ECPv6.15.20//NONSGML v1.0//EN
CALSCALE:GREGORIAN
METHOD:PUBLISH
X-WR-CALNAME:Salterina
X-ORIGINAL-URL:https://salterina.at
X-WR-CALDESC:Veranstaltungen für Salterina
REFRESH-INTERVAL;VALUE=DURATION:PT1H
X-Robots-Tag:noindex
X-PUBLISHED-TTL:PT1H
BEGIN:VTIMEZONE
TZID:Europe/Vienna
BEGIN:DAYLIGHT
TZOFFSETFROM:+0100
TZOFFSETTO:+0200
TZNAME:CEST
DTSTART:20240331T010000
END:DAYLIGHT
BEGIN:STANDARD
TZOFFSETFROM:+0200
TZOFFSETTO:+0100
TZNAME:CET
DTSTART:20241027T010000
END:STANDARD
BEGIN:DAYLIGHT
TZOFFSETFROM:+0100
TZOFFSETTO:+0200
TZNAME:CEST
DTSTART:20250330T010000
END:DAYLIGHT
BEGIN:STANDARD
TZOFFSETFROM:+0200
TZOFFSETTO:+0100
TZNAME:CET
DTSTART:20251026T010000
END:STANDARD
BEGIN:DAYLIGHT
TZOFFSETFROM:+0100
TZOFFSETTO:+0200
TZNAME:CEST
DTSTART:20260329T010000
END:DAYLIGHT
BEGIN:STANDARD
TZOFFSETFROM:+0200
TZOFFSETTO:+0100
TZNAME:CET
DTSTART:20261025T010000
END:STANDARD
END:VTIMEZONE
BEGIN:VEVENT
DTSTART;TZID=Europe/Vienna:20251116T180000
DTEND;TZID=Europe/Vienna:20251116T190000
DTSTAMP:20260420T115333
CREATED:20251008T073729Z
LAST-MODIFIED:20251109T102308Z
UID:2424-1763316000-1763319600@salterina.at
SUMMARY:Klassik trifft Volksmusik | Euro Symphony SFK
DESCRIPTION:Am 16. November präsentiert Ulrike Knapp beim Orchesterkonzert „Klassik trifft Volksmusik“ der Euro Symphony SFK ihr Können am Hackbrett. Freuen Sie sich auf einen einzigartigen Abend\, bei dem traditionelle Volksmusik und klassische Klänge verschmelzen! \nProgramm als PDF downloaden >> \nInterpreten \nEuro Symphony SFK Orchester\nSüdklang Chor Chor\nHans Ecker Gesang\nMichael Uhr Steirische Harmonika\nMax Neubauer Steirische Harmonika\nUlrike Knapp Hackbrett\nSepp Pichler Dudelsack\nAnna Barbara Wagner Drehleier\nErnest Hoetzl Dirigent \nProgramm \nLeopold Mozart Sinfonia D-Dur »Die Bauernhochzeit«\n(Marcia villanesca; Menuet; Finale. Molto allegro)\nViktor Fortin Konzert für Steirische Harmonika und Orchester\n(II. Scherzo Irregulare – Steirischer / Jodler-Polka)\nGerd Schuller Die Enns\nWienerlieder von Paul Hertel\nGünther Antesberger Kaleidoskop Kärnten. G’sungan oder g’spielt? / Musikalisches Rätsel für Alt-Steirer-Trio und Orchester \nDauer \n1h 0min\, keine Pause \nTicket Info \nJeunesse Wien\n1010 Wien\nBösendorferstraße 12\nTelefon: +43 (1) 505 63 56\ntickets@jeunesse.at\nhttp://www.jeunesse.at/programm/veranstaltungsdetails/klassik-trifft-volksmusik-euro-symphony-sfk
URL:https://salterina.at/event/klassik-trifft-volksmusik-euro-symphony-sfk/
LOCATION:Lorely-Saal\, Penzinger Straße 72\, Wien\, 1140\, Austria
ATTACH;FMTTYPE=image/jpeg:https://salterina.at/wp-content/uploads/2024/08/IMG_0126-Hackbrett-spielen.jpg
END:VEVENT
END:VCALENDAR