BEGIN:VCALENDAR
VERSION:2.0
PRODID:-//Salterina - ECPv6.15.20//NONSGML v1.0//EN
CALSCALE:GREGORIAN
METHOD:PUBLISH
X-ORIGINAL-URL:https://salterina.at
X-WR-CALDESC:Veranstaltungen für Salterina
REFRESH-INTERVAL;VALUE=DURATION:PT1H
X-Robots-Tag:noindex
X-PUBLISHED-TTL:PT1H
BEGIN:VTIMEZONE
TZID:Europe/Vienna
BEGIN:DAYLIGHT
TZOFFSETFROM:+0100
TZOFFSETTO:+0200
TZNAME:CEST
DTSTART:20240331T010000
END:DAYLIGHT
BEGIN:STANDARD
TZOFFSETFROM:+0200
TZOFFSETTO:+0100
TZNAME:CET
DTSTART:20241027T010000
END:STANDARD
BEGIN:DAYLIGHT
TZOFFSETFROM:+0100
TZOFFSETTO:+0200
TZNAME:CEST
DTSTART:20250330T010000
END:DAYLIGHT
BEGIN:STANDARD
TZOFFSETFROM:+0200
TZOFFSETTO:+0100
TZNAME:CET
DTSTART:20251026T010000
END:STANDARD
BEGIN:DAYLIGHT
TZOFFSETFROM:+0100
TZOFFSETTO:+0200
TZNAME:CEST
DTSTART:20260329T010000
END:DAYLIGHT
BEGIN:STANDARD
TZOFFSETFROM:+0200
TZOFFSETTO:+0100
TZNAME:CET
DTSTART:20261025T010000
END:STANDARD
END:VTIMEZONE
BEGIN:VEVENT
DTSTART;TZID=Europe/Vienna:20251129T163000
DTEND;TZID=Europe/Vienna:20251129T180000
DTSTAMP:20260420T115633
CREATED:20250821T082242Z
LAST-MODIFIED:20251004T104135Z
UID:2377-1764433800-1764439200@salterina.at
SUMMARY:Adventkranzweihe - St.Stefan im Rosental
DESCRIPTION:Das Duo Salterina (Hackbrett – Ulrike Knapp\, Gitarre – Iris Fladerer) umrahmt die Adventkranzweihe am 29. November in der Kirche St. Stefan im Rosental mit festlichen Klängen gemeinsam mit ihren Schülern der Musikschule. Lass dich von der zauberhaften Musik in eine stimmungsvolle Adventszeit entführen.
URL:https://salterina.at/event/adventkranzweihe-st-stefan-im-rosental/
CATEGORIES:Salterina Duo
ATTACH;FMTTYPE=image/jpeg:https://salterina.at/wp-content/uploads/2024/12/WhatsApp-Image-2024-12-15-at-11.41.09.jpeg
ORGANIZER;CN="Salterina":MAILTO:klangwelt@salterina.at
END:VEVENT
END:VCALENDAR